BEGIN:VCALENDAR
VERSION:2.0
PRODID:-//wp-events-plugin.com//6.4.6.4//EN
BEGIN:VEVENT
UID:59@schuetzengesellschaft-duingen.de
DTSTART;TZID=Europe/Berlin;VALUE=DATE:20261128
DTEND;TZID=Europe/Berlin;VALUE=DATE:20261129
DTSTAMP:20260206T154107Z
URL:https://www.schuetzengesellschaft-duingen.de/events/adventsgluehen-adv
 entsmarkt/
SUMMARY:Adventsglühen / Adventsmarkt
DESCRIPTION:
CATEGORIES:Termine des Vereins
END:VEVENT
BEGIN:VTIMEZONE
TZID:Europe/Berlin
X-LIC-LOCATION:Europe/Berlin
BEGIN:STANDARD
DTSTART:20261025T020000
TZOFFSETFROM:+0200
TZOFFSETTO:+0100
TZNAME:CET
END:STANDARD
END:VTIMEZONE
END:VCALENDAR